BEGIN:VCALENDAR
VERSION:2.0
PRODID:-//Plone.org//NONSGML plone.app.event//EN
X-WR-TIMEZONE:Brazil/East
BEGIN:VEVENT
SUMMARY:AUDIÊNCIA PÚBLICA SOBRE A OBRIGATORIEDADE DE RESTAURANTES\, LANC
 HONETES\, PRAÇAS DE ALIMENTAÇÃO DE CENTROS COMERCIAIS\, SHOPPING CENTER
 S E ESTABELECIMENTOS SIMILARES.
DTSTART;TZID=Brazil/East;VALUE=DATE-TIME:20250221T090000
DTEND;TZID=Brazil/East;VALUE=DATE-TIME:20250221T130000
DTSTAMP;VALUE=DATE-TIME:20260421T054236Z
UID:115af62d1faa45ee8471ed2b55c16402@www.goiania.go.leg.br
CONTACT:VEREADOR HEYLER LEÃO
CREATED;VALUE=DATE-TIME:20250212T115759Z
LAST-MODIFIED;VALUE=DATE-TIME:20250212T115806Z
LOCATION:SALA DE REUNIÃO DAS COMISSÕES
URL:https://www.goiania.go.leg.br/sala-de-imprensa/eventos/audiencia-publi
 ca-sobre-a-obrigatoriedade-de-restaurantes-lanchonetes-pracas-de-alimentac
 ao-de-centros-comerciais-shopping-centers-e-estabelecimentos-similares
END:VEVENT
BEGIN:VTIMEZONE
TZID:Brazil/East
X-LIC-LOCATION:Brazil/East
BEGIN:STANDARD
DTSTART;VALUE=DATE-TIME:20250215T230000
TZNAME:BRT
TZOFFSETFROM:-0200
TZOFFSETTO:-0300
END:STANDARD
END:VTIMEZONE
END:VCALENDAR
