BEGIN:VCALENDAR
VERSION:2.0
PRODID:-//Plone.org//NONSGML plone.app.event//EN
X-WR-TIMEZONE:Brazil/East
BEGIN:VEVENT
SUMMARY:AUDIÊNCIA PÚBLICA SOBRE A ISENÇÃO DE COBRANÇA DE TAXA DE LIXO
 \, COM REPRESENTANTES DAS ENTIDADES RELIGIOSAS\, CONDOMÍNIOS E ENTIDADES 
 SEM FINS LUCRATIVOS.
DTSTART;TZID=Brazil/East;VALUE=DATE-TIME:20191107T140000
DTEND;TZID=Brazil/East;VALUE=DATE-TIME:20191107T180000
DTSTAMP;VALUE=DATE-TIME:20260420T054727Z
UID:d3cee177e1a04f578f83d7239b487a96@www.goiania.go.leg.br
CONTACT:VEREADOR CARLIN CAFÉ
CREATED;VALUE=DATE-TIME:20191023T223242Z
LAST-MODIFIED;VALUE=DATE-TIME:20191107T122541Z
LOCATION:SALA DE REUNIÃO DAS COMISSÕES
URL:https://www.goiania.go.leg.br/sala-de-imprensa/eventos/audiencia-publi
 ca-sobre-a-isencao-de-cobranca-de-taxa-de-lixo-com-representantes-das-enti
 dades-religiosas-condominios-e-entidades-sem-fins-lucrativos
END:VEVENT
BEGIN:VTIMEZONE
TZID:Brazil/East
X-LIC-LOCATION:Brazil/East
BEGIN:DAYLIGHT
DTSTART;VALUE=DATE-TIME:20191020T010000
TZNAME:BRST
TZOFFSETFROM:-0300
TZOFFSETTO:-0200
END:DAYLIGHT
END:VTIMEZONE
END:VCALENDAR
