BEGIN:VCALENDAR
VERSION:2.0
PRODID:-//Plone.org//NONSGML plone.app.event//EN
X-WR-TIMEZONE:Brazil/East
BEGIN:VEVENT
SUMMARY:AUDIÊNCIA PÚBLICA SOBRE A DISCUSSÃO DO PLANO DIRETOR DA REGIÃO
  SUL.
DTSTART;TZID=Brazil/East;VALUE=DATE-TIME:20200305T190000
DTEND;TZID=Brazil/East;VALUE=DATE-TIME:20200305T220000
DTSTAMP;VALUE=DATE-TIME:20260420T055604Z
UID:ef2fb1dc20ec47e596718df7e09d508d@www.goiania.go.leg.br
CONTACT:PAULO CÉSAR FORNAZIER
CREATED;VALUE=DATE-TIME:20200302T214442Z
LAST-MODIFIED;VALUE=DATE-TIME:20200302T214458Z
LOCATION:CONSELHO REGIONAL DE CONTABILIDADE
URL:https://www.goiania.go.leg.br/sala-de-imprensa/eventos/audiencia-publi
 ca-sobre-a-discussao-do-plano-diretor-da-regiao-sul
END:VEVENT
BEGIN:VTIMEZONE
TZID:Brazil/East
X-LIC-LOCATION:Brazil/East
BEGIN:STANDARD
DTSTART;VALUE=DATE-TIME:20200215T230000
TZNAME:BRT
TZOFFSETFROM:-0200
TZOFFSETTO:-0300
END:STANDARD
END:VTIMEZONE
END:VCALENDAR
