BEGIN:VCALENDAR
VERSION:2.0
PRODID:-//Plone.org//NONSGML plone.app.event//EN
X-WR-TIMEZONE:Brazil/East
BEGIN:VEVENT
SUMMARY:AUDIÊNCIA PÚBLICA SOBRE A CRIAÇÃO DA PRIMEIRA RESIDÊNCIA INCL
 USIVA EM GOIÂNIA.
DTSTART;TZID=Brazil/East;VALUE=DATE-TIME:20230911T080000
DTEND;TZID=Brazil/East;VALUE=DATE-TIME:20230911T140000
DTSTAMP;VALUE=DATE-TIME:20260419T133332Z
UID:36d6bafdad8a47e1b214ad90c9d397de@www.goiania.go.leg.br
CONTACT:VEREADORA SABRINA GARCEZ
CREATED;VALUE=DATE-TIME:20230823T150249Z
LAST-MODIFIED;VALUE=DATE-TIME:20230823T153457Z
LOCATION:AUDITÓRIO CARLOS EURICO
URL:https://www.goiania.go.leg.br/sala-de-imprensa/eventos/audiencia-publi
 ca-sobre-a-criacao-da-primeira-residencia-inclusiva-em-goiania
END:VEVENT
BEGIN:VTIMEZONE
TZID:Brazil/East
X-LIC-LOCATION:Brazil/East
BEGIN:STANDARD
DTSTART;VALUE=DATE-TIME:20230225T230000
TZNAME:BRT
TZOFFSETFROM:-0200
TZOFFSETTO:-0300
END:STANDARD
END:VTIMEZONE
END:VCALENDAR
