BEGIN:VCALENDAR
VERSION:2.0
PRODID:-//Plone.org//NONSGML plone.app.event//EN
X-WR-TIMEZONE:Brazil/East
BEGIN:VEVENT
SUMMARY:AUDIÊNCIA PÚBLICA SOBRE A CAUSA ANIMAL.
DTSTART;TZID=Brazil/East;VALUE=DATE-TIME:20211208T130000
DTEND;TZID=Brazil/East;VALUE=DATE-TIME:20211208T173000
DTSTAMP;VALUE=DATE-TIME:20260419T174257Z
UID:45c6117f0aa84cd2b30d0cb31ce0cc77@www.goiania.go.leg.br
CONTACT:VEREADOR MARLON TEIXEIRA
CREATED;VALUE=DATE-TIME:20211206T144523Z
LAST-MODIFIED;VALUE=DATE-TIME:20211206T144553Z
LOCATION:PLENÁRIO TRAJANO GUIMARÃES
URL:https://www.goiania.go.leg.br/sala-de-imprensa/eventos/audiencia-publi
 ca-sobre-a-causa-animal
END:VEVENT
BEGIN:VTIMEZONE
TZID:Brazil/East
X-LIC-LOCATION:Brazil/East
BEGIN:DAYLIGHT
DTSTART;VALUE=DATE-TIME:20211017T010000
TZNAME:BRST
TZOFFSETFROM:-0300
TZOFFSETTO:-0200
END:DAYLIGHT
END:VTIMEZONE
END:VCALENDAR
