BEGIN:VCALENDAR
VERSION:2.0
PRODID:-//Plone.org//NONSGML plone.app.event//EN
X-WR-TIMEZONE:Brazil/East
BEGIN:VEVENT
SUMMARY:AUDIÊNCIA PÚBLICA SOBRE A ATUAL SITUAÇÃO DA UNIDADE DE ACOLHIM
 ENTO INSTITUCIONAL PROVISÓRIO "RESIDENCIAL NISO PREGO".
DTSTART;TZID=Brazil/East;VALUE=DATE-TIME:20240424T140000
DTEND;TZID=Brazil/East;VALUE=DATE-TIME:20240424T160000
DTSTAMP;VALUE=DATE-TIME:20260420T021540Z
UID:550e3ab2cacf43fdb29c107411ddae96@www.goiania.go.leg.br
CONTACT:VEREADOR HENRIQUE ALVES
CREATED;VALUE=DATE-TIME:20240417T152457Z
LAST-MODIFIED;VALUE=DATE-TIME:20240417T152505Z
LOCATION:PLENÁRIO TRAJANO GUIMARÃES
URL:https://www.goiania.go.leg.br/sala-de-imprensa/eventos/audiencia-publi
 ca-sobre-a-atual-situacao-da-unidade-de-acolhimento-institucional-provisor
 io-residencial-niso-prego
END:VEVENT
BEGIN:VTIMEZONE
TZID:Brazil/East
X-LIC-LOCATION:Brazil/East
BEGIN:STANDARD
DTSTART;VALUE=DATE-TIME:20240217T230000
TZNAME:BRT
TZOFFSETFROM:-0200
TZOFFSETTO:-0300
END:STANDARD
END:VTIMEZONE
END:VCALENDAR
