BEGIN:VCALENDAR
VERSION:2.0
PRODID:-//Plone.org//NONSGML plone.app.event//EN
X-WR-TIMEZONE:Brazil/East
BEGIN:VEVENT
SUMMARY:AUDIÊNCIA PÚBLICA RELATIVA AO ENSINO À DISTÂNCIA NA ÁREA DA S
 AÚDE.
DTSTART;TZID=Brazil/East;VALUE=DATE-TIME:20220413T133000
DTEND;TZID=Brazil/East;VALUE=DATE-TIME:20220413T160000
DTSTAMP;VALUE=DATE-TIME:20260420T050323Z
UID:0c1988ba462a4786a584049f5083a427@www.goiania.go.leg.br
CONTACT:VEREADOR MAURO RUBEM
CREATED;VALUE=DATE-TIME:20220330T115653Z
LAST-MODIFIED;VALUE=DATE-TIME:20220330T115707Z
LOCATION:PLENÁRIO TRAJANO GUIMARÃES
URL:https://www.goiania.go.leg.br/sala-de-imprensa/eventos/audiencia-publi
 ca-relativa-ao-ensino-a-distancia-na-area-da-saude
END:VEVENT
BEGIN:VTIMEZONE
TZID:Brazil/East
X-LIC-LOCATION:Brazil/East
BEGIN:STANDARD
DTSTART;VALUE=DATE-TIME:20220219T230000
TZNAME:BRT
TZOFFSETFROM:-0200
TZOFFSETTO:-0300
END:STANDARD
END:VTIMEZONE
END:VCALENDAR
