BEGIN:VCALENDAR
VERSION:2.0
PRODID:-//Plone.org//NONSGML plone.app.event//EN
X-WR-TIMEZONE:Brazil/East
BEGIN:VEVENT
SUMMARY:AUDIÊNCIA PÚBLICA "REFLEXÕES SOBRE O TRABALHO E A ENFERMAGEM FR
 ENTE À PANDEMIA CONQUISTAS E DESAFIOS".
DTSTART;TZID=Brazil/East;VALUE=DATE-TIME:20210513T150000
DTEND;TZID=Brazil/East;VALUE=DATE-TIME:20210513T170000
DTSTAMP;VALUE=DATE-TIME:20260419T094252Z
UID:83749c33e40d490bbdfe6e6830a291d0@www.goiania.go.leg.br
CONTACT:VEREADOR MAURO RUBEM
CREATED;VALUE=DATE-TIME:20210426T123347Z
LAST-MODIFIED;VALUE=DATE-TIME:20210426T123646Z
LOCATION:PLENÁRIO TRAJANO GUIMARÃES
URL:https://www.goiania.go.leg.br/sala-de-imprensa/eventos/audiencia-publi
 ca-reflexoes-sobre-o-trabalho-e-a-enfermagem-frente-a-pandemia-conquistas-
 e-desafios
END:VEVENT
BEGIN:VTIMEZONE
TZID:Brazil/East
X-LIC-LOCATION:Brazil/East
BEGIN:STANDARD
DTSTART;VALUE=DATE-TIME:20210220T230000
TZNAME:BRT
TZOFFSETFROM:-0200
TZOFFSETTO:-0300
END:STANDARD
END:VTIMEZONE
END:VCALENDAR
