BEGIN:VCALENDAR
VERSION:2.0
PRODID:-//Plone.org//NONSGML plone.app.event//EN
X-WR-TIMEZONE:Brazil/East
BEGIN:VEVENT
SUMMARY:AUDIÊNCIA PÚBLICA REVISÃO DO PLANO DIRETOR.
DTSTART;TZID=Brazil/East;VALUE=DATE-TIME:20171207T080000
DTEND;TZID=Brazil/East;VALUE=DATE-TIME:20171207T180000
DTSTAMP;VALUE=DATE-TIME:20260420T051241Z
UID:becb6db952db46f99d0068e6bd6c7afd@www.goiania.go.leg.br
CONTACT:SECRETÁRIO AGENOR MARIANO
CREATED;VALUE=DATE-TIME:20171208T111313Z
LAST-MODIFIED;VALUE=DATE-TIME:20171208T112945Z
LOCATION:AUDITÓRIO JAIME CÂMARA
URL:https://www.goiania.go.leg.br/sala-de-imprensa/eventos/audiencia-publi
 ca-referida-revisao-buscando-assim-a-participacao-social-de-acordo-com-as-
 determinacoes-do-processo-de-revisao-de-planos-diretores
END:VEVENT
BEGIN:VTIMEZONE
TZID:Brazil/East
X-LIC-LOCATION:Brazil/East
BEGIN:DAYLIGHT
DTSTART;VALUE=DATE-TIME:20171015T010000
TZNAME:BRST
TZOFFSETFROM:-0300
TZOFFSETTO:-0200
END:DAYLIGHT
END:VTIMEZONE
END:VCALENDAR
