BEGIN:VCALENDAR
VERSION:2.0
PRODID:-//Plone.org//NONSGML plone.app.event//EN
X-WR-TIMEZONE:Brazil/East
BEGIN:VEVENT
SUMMARY:AUDIÊNCIA PÚBLICA QUE TRATA DA CONVOCAÇÃO DOS APROVADOS NO CON
 CURSO DA SECRETARIA MUNICIPAL DE EDUCAÇÃO
DTSTART;TZID=Brazil/East;VALUE=DATE-TIME:20180313T140000
DTEND;TZID=Brazil/East;VALUE=DATE-TIME:20180313T180000
DTSTAMP;VALUE=DATE-TIME:20260420T051256Z
UID:59a643f791b144a8bbaec813dc31ce2a@www.goiania.go.leg.br
CONTACT:VEREADORA SABRINA GARCÊZ
CREATED;VALUE=DATE-TIME:20180313T141735Z
LAST-MODIFIED;VALUE=DATE-TIME:20180313T141746Z
LOCATION:AUDITÓRIO CARLOS EURICO
URL:https://www.goiania.go.leg.br/sala-de-imprensa/eventos/audiencia-publi
 ca-que-trata-da-convocacao-dos-aprovados-no-concurso-da-secretaria-municip
 al-de-educacao
END:VEVENT
BEGIN:VTIMEZONE
TZID:Brazil/East
X-LIC-LOCATION:Brazil/East
BEGIN:STANDARD
DTSTART;VALUE=DATE-TIME:20180217T230000
TZNAME:BRT
TZOFFSETFROM:-0200
TZOFFSETTO:-0300
END:STANDARD
END:VTIMEZONE
END:VCALENDAR
