BEGIN:VCALENDAR
VERSION:2.0
PRODID:-//Plone.org//NONSGML plone.app.event//EN
X-WR-TIMEZONE:Brazil/East
BEGIN:VEVENT
SUMMARY:AUDIÊNCIA PÚBLICA QUE SERÁ ORGANIZADA PELO GABINETE DO VEREADOR
  DELEGADO EDUARDO PRADO.
DTSTART;TZID=Brazil/East;VALUE=DATE-TIME:20171031T140000
DTEND;TZID=Brazil/East;VALUE=DATE-TIME:20171031T160000
DTSTAMP;VALUE=DATE-TIME:20260420T051236Z
UID:cde25bb42443461298b3f4c41ef19fb3@www.goiania.go.leg.br
CONTACT:VEREADOR DELEGADO EDUARDO PRADO
CREATED;VALUE=DATE-TIME:20171208T111313Z
LAST-MODIFIED;VALUE=DATE-TIME:20171208T112943Z
LOCATION:AUDITÓRIO CARLOS EURICO
URL:https://www.goiania.go.leg.br/sala-de-imprensa/eventos/audiencia-publi
 ca-que-sera-organizada-pelo-gabinete-do-vereador-delegado-eduardo-prado
END:VEVENT
BEGIN:VTIMEZONE
TZID:Brazil/East
X-LIC-LOCATION:Brazil/East
BEGIN:DAYLIGHT
DTSTART;VALUE=DATE-TIME:20171015T010000
TZNAME:BRST
TZOFFSETFROM:-0300
TZOFFSETTO:-0200
END:DAYLIGHT
END:VTIMEZONE
END:VCALENDAR
