BEGIN:VCALENDAR
VERSION:2.0
PRODID:-//Plone.org//NONSGML plone.app.event//EN
X-WR-TIMEZONE:Brazil/East
BEGIN:VEVENT
SUMMARY:AUDIÊNCIA PÚBLICA QUE REVOGA A COBRANÇA DE TAXA DE JARDINAGEM D
 OS CEMITÉRIOS.
DTSTART;TZID=Brazil/East;VALUE=DATE-TIME:20191209T143000
DTEND;TZID=Brazil/East;VALUE=DATE-TIME:20191209T180000
DTSTAMP;VALUE=DATE-TIME:20260420T042827Z
UID:18e5c073596e4d6cac055d2f500bc44d@www.goiania.go.leg.br
CONTACT:VEREADORA SABRINA GARCÊZ
CREATED;VALUE=DATE-TIME:20191129T221326Z
LAST-MODIFIED;VALUE=DATE-TIME:20191129T221336Z
LOCATION:AUDITÓRIO CARLOS EURICO
URL:https://www.goiania.go.leg.br/sala-de-imprensa/eventos/audiencia-publi
 ca-que-revoga-a-cobranca-de-taxa-de-jardinagem-dos-cemiterios
END:VEVENT
BEGIN:VTIMEZONE
TZID:Brazil/East
X-LIC-LOCATION:Brazil/East
BEGIN:DAYLIGHT
DTSTART;VALUE=DATE-TIME:20191020T010000
TZNAME:BRST
TZOFFSETFROM:-0300
TZOFFSETTO:-0200
END:DAYLIGHT
END:VTIMEZONE
END:VCALENDAR
