BEGIN:VCALENDAR
VERSION:2.0
PRODID:-//Plone.org//NONSGML plone.app.event//EN
X-WR-TIMEZONE:Brazil/East
BEGIN:VEVENT
SUMMARY:AUDIÊNCIA PÚBLICA QUE DISPÕE SOBRE O TOMBAMENTO PELO PATRIMÔNI
 O HISTÓRICO E CULTURAL DO MUNICÍPIO DE GOIÂNIA\, DOS PIT DOGS INSTALADO
 S NOS LOGRADOUROS PÚBLICOS DA CAPITAL.
DTSTART;TZID=Brazil/East;VALUE=DATE-TIME:20180523T150000
DTEND;TZID=Brazil/East;VALUE=DATE-TIME:20180523T180000
DTSTAMP;VALUE=DATE-TIME:20260420T043210Z
UID:8f361e48e4b04ef896855386e8cd0212@www.goiania.go.leg.br
CONTACT:VEREADOR ALYSSON LIMA
CREATED;VALUE=DATE-TIME:20180508T140337Z
LAST-MODIFIED;VALUE=DATE-TIME:20180508T140346Z
LOCATION:AUDITÓRIO CARLOS EURICO
URL:https://www.goiania.go.leg.br/sala-de-imprensa/eventos/audiencia-publi
 ca-que-dispoe-sobre-o-tombamento-pelo-patrimonio-historico-e-cultural-do-m
 unicipio-de-goiania-dos-pit-dogs-instalados-nos-logradouros-publicos-da-ca
 pital
END:VEVENT
BEGIN:VTIMEZONE
TZID:Brazil/East
X-LIC-LOCATION:Brazil/East
BEGIN:STANDARD
DTSTART;VALUE=DATE-TIME:20180217T230000
TZNAME:BRT
TZOFFSETFROM:-0200
TZOFFSETTO:-0300
END:STANDARD
END:VTIMEZONE
END:VCALENDAR
