BEGIN:VCALENDAR
VERSION:2.0
PRODID:-//Plone.org//NONSGML plone.app.event//EN
X-WR-TIMEZONE:Brazil/East
BEGIN:VEVENT
SUMMARY:AUDIÊNCIA PÚBLICA QUE DISCUTIRÁ O PROJETO DE LEI Nº 001\, DE 0
 5 DE JANEIRO DE 2018.
DTSTART;TZID=Brazil/East;VALUE=DATE-TIME:20180611T140000
DTEND;TZID=Brazil/East;VALUE=DATE-TIME:20180611T180000
DTSTAMP;VALUE=DATE-TIME:20260422T083232Z
UID:abb334f7d9a0491ab5fdfaf7c4f297f9@www.goiania.go.leg.br
CONTACT:VEREADOR ELIAS VAZ
CREATED;VALUE=DATE-TIME:20180607T124229Z
LAST-MODIFIED;VALUE=DATE-TIME:20180607T124239Z
LOCATION:SALA DE REUNIÃO DAS COMISSÕES
URL:https://www.goiania.go.leg.br/sala-de-imprensa/eventos/audiencia-publi
 ca-que-discutira-o-projeto-de-lei-no-001-de-05-de-janeiro-de-2018
END:VEVENT
BEGIN:VTIMEZONE
TZID:Brazil/East
X-LIC-LOCATION:Brazil/East
BEGIN:STANDARD
DTSTART;VALUE=DATE-TIME:20180217T230000
TZNAME:BRT
TZOFFSETFROM:-0200
TZOFFSETTO:-0300
END:STANDARD
END:VTIMEZONE
END:VCALENDAR
