BEGIN:VCALENDAR
VERSION:2.0
PRODID:-//Plone.org//NONSGML plone.app.event//EN
X-WR-TIMEZONE:Brazil/East
BEGIN:VEVENT
SUMMARY:AUDIÊNCIA PÚBLICA QUE DISCUTIRÁ "CORTE DE REPASSES FINANCEIROS 
 PARA HOSPITAL ARAÚJO JORGE".
DTSTART;TZID=Brazil/East;VALUE=DATE-TIME:20191022T140000
DTEND;TZID=Brazil/East;VALUE=DATE-TIME:20191022T180000
DTSTAMP;VALUE=DATE-TIME:20260422T083301Z
UID:d7e4b9771d364aa9932c6ad8314a9bcc@www.goiania.go.leg.br
CONTACT:VEREADORA DRA. CRISTINA LOPES AFONSO
CREATED;VALUE=DATE-TIME:20191004T222138Z
LAST-MODIFIED;VALUE=DATE-TIME:20191004T222235Z
LOCATION:AUDITÓRIO CARLOS EURICO
URL:https://www.goiania.go.leg.br/sala-de-imprensa/eventos/audiencia-publi
 ca-que-discutira-corte-de-repasses-financeiros-para-hospital-araujo-jorge
END:VEVENT
BEGIN:VTIMEZONE
TZID:Brazil/East
X-LIC-LOCATION:Brazil/East
BEGIN:DAYLIGHT
DTSTART;VALUE=DATE-TIME:20191020T010000
TZNAME:BRST
TZOFFSETFROM:-0300
TZOFFSETTO:-0200
END:DAYLIGHT
END:VTIMEZONE
END:VCALENDAR
