BEGIN:VCALENDAR
VERSION:2.0
PRODID:-//Plone.org//NONSGML plone.app.event//EN
X-WR-TIMEZONE:Brazil/East
BEGIN:VEVENT
SUMMARY:AUDIÊNCIA PÚBLICA PARA TRATAR SOBRE POSSÍVEL EXTENSÃO (AUMENTO
  DA QUANTIDADE DE PONTOS BANCAS) DA FEIRA DA MADRUGADA.
DTSTART;TZID=Brazil/East;VALUE=DATE-TIME:20191203T140000
DTEND;TZID=Brazil/East;VALUE=DATE-TIME:20191203T180000
DTSTAMP;VALUE=DATE-TIME:20260420T033117Z
UID:dbbd766463664dbf84d84d8ac5772e90@www.goiania.go.leg.br
CONTACT:VEREADOR PAULO MAGALHÃES
CREATED;VALUE=DATE-TIME:20191202T151624Z
LAST-MODIFIED;VALUE=DATE-TIME:20191202T151635Z
LOCATION:AUDITÓRIO CARLOS EURICO
URL:https://www.goiania.go.leg.br/sala-de-imprensa/eventos/audiencia-publi
 ca-para-tratar-sobre-possivel-extensao-aumento-da-quantidade-de-pontos-ban
 cas-da-feira-da-madrugada
END:VEVENT
BEGIN:VTIMEZONE
TZID:Brazil/East
X-LIC-LOCATION:Brazil/East
BEGIN:DAYLIGHT
DTSTART;VALUE=DATE-TIME:20191020T010000
TZNAME:BRST
TZOFFSETFROM:-0300
TZOFFSETTO:-0200
END:DAYLIGHT
END:VTIMEZONE
END:VCALENDAR
