BEGIN:VCALENDAR
VERSION:2.0
PRODID:-//Plone.org//NONSGML plone.app.event//EN
X-WR-TIMEZONE:Brazil/East
BEGIN:VEVENT
SUMMARY:AUDIÊNCIA PÚBLICA PARA TRATAR SOBRE A REGULARIZAÇÃO FUNDIÁRIA
  DO SETOR PEDRO LUDOVICO
DTSTART;TZID=Brazil/East;VALUE=DATE-TIME:20190226T140000
DTEND;TZID=Brazil/East;VALUE=DATE-TIME:20190226T170000
DTSTAMP;VALUE=DATE-TIME:20260420T033132Z
UID:7559a8f0cf0049d982ad244952aa3ce5@www.goiania.go.leg.br
CONTACT:VEREADOR PAULO MAGALHÃES
CREATED;VALUE=DATE-TIME:20190212T125928Z
LAST-MODIFIED;VALUE=DATE-TIME:20190212T130002Z
LOCATION:SALA DE REUNIÃO DAS COMISSÕES 
URL:https://www.goiania.go.leg.br/sala-de-imprensa/eventos/audiencia-publi
 ca-para-tratar-sobre-a-regularizacao-fundiaria-do-setor-pedro-ludovico-1
END:VEVENT
BEGIN:VTIMEZONE
TZID:Brazil/East
X-LIC-LOCATION:Brazil/East
BEGIN:STANDARD
DTSTART;VALUE=DATE-TIME:20190216T230000
TZNAME:BRT
TZOFFSETFROM:-0200
TZOFFSETTO:-0300
END:STANDARD
END:VTIMEZONE
END:VCALENDAR
