BEGIN:VCALENDAR
VERSION:2.0
PRODID:-//Plone.org//NONSGML plone.app.event//EN
X-WR-TIMEZONE:Brazil/East
BEGIN:VEVENT
SUMMARY:AUDIÊNCIA PÚBLICA PARA TRATAR SOBRE A REGULARIZAÇÃO DA QUADRA 
 DO SETOR LESTE UNIVERSITÁRIO.
DTSTART;TZID=Brazil/East;VALUE=DATE-TIME:20190927T140000
DTEND;TZID=Brazil/East;VALUE=DATE-TIME:20190927T180000
DTSTAMP;VALUE=DATE-TIME:20260420T033117Z
UID:c752db2c6ead497c902f9dcc1d35d5d1@www.goiania.go.leg.br
CONTACT:VEREADOR PAULO MAGALHÃES
CREATED;VALUE=DATE-TIME:20190903T174355Z
LAST-MODIFIED;VALUE=DATE-TIME:20190903T174408Z
LOCATION:SALA DE REUNIÃO DAS COMISSÕES
URL:https://www.goiania.go.leg.br/sala-de-imprensa/eventos/audiencia-publi
 ca-para-tratar-sobre-a-regularizacao-da-quadra-do-setor-leste-universitari
 o
END:VEVENT
BEGIN:VTIMEZONE
TZID:Brazil/East
X-LIC-LOCATION:Brazil/East
BEGIN:STANDARD
DTSTART;VALUE=DATE-TIME:20190216T230000
TZNAME:BRT
TZOFFSETFROM:-0200
TZOFFSETTO:-0300
END:STANDARD
END:VTIMEZONE
END:VCALENDAR
