BEGIN:VCALENDAR
VERSION:2.0
PRODID:-//Plone.org//NONSGML plone.app.event//EN
X-WR-TIMEZONE:Brazil/East
BEGIN:VEVENT
SUMMARY:AUDIÊNCIA PÚBLICA PARA TRATAR SOBRE A REGULAMENTAÇÃO DE SISTEM
 A DE MICROMOBILIDADE COMPARTILHADA.
DTSTART;TZID=Brazil/East;VALUE=DATE-TIME:20190503T090000
DTEND;TZID=Brazil/East;VALUE=DATE-TIME:20190503T120000
DTSTAMP;VALUE=DATE-TIME:20260420T024452Z
UID:c796c8bc2b99487ab364d2aece0dae36@www.goiania.go.leg.br
CONTACT:VEREADOR PAULO MAGALHÃES
CREATED;VALUE=DATE-TIME:20190425T115925Z
LAST-MODIFIED;VALUE=DATE-TIME:20190425T115938Z
LOCATION:SALA DE REUNIÃO DAS COMISSÕES
URL:https://www.goiania.go.leg.br/sala-de-imprensa/eventos/audiencia-publi
 ca-para-tratar-sobre-a-regulamentacao-de-sistema-de-micromobilidade-compar
 tilhada
END:VEVENT
BEGIN:VTIMEZONE
TZID:Brazil/East
X-LIC-LOCATION:Brazil/East
BEGIN:STANDARD
DTSTART;VALUE=DATE-TIME:20190216T230000
TZNAME:BRT
TZOFFSETFROM:-0200
TZOFFSETTO:-0300
END:STANDARD
END:VTIMEZONE
END:VCALENDAR
