BEGIN:VCALENDAR
VERSION:2.0
PRODID:-//Plone.org//NONSGML plone.app.event//EN
X-WR-TIMEZONE:Brazil/East
BEGIN:VEVENT
SUMMARY:AUDIÊNCIA PÚBLICA PARA TRATAR DO PROJETO DE LEI COMPLEMENTAR DE 
 Nº 041/17\, DISCUTIR O PROJETO DE EXPANSÃO URBANA.
DTSTART;TZID=Brazil/East;VALUE=DATE-TIME:20171128T143000
DTEND;TZID=Brazil/East;VALUE=DATE-TIME:20171128T180000
DTSTAMP;VALUE=DATE-TIME:20260420T024623Z
UID:910a93a0af874361bcb863bf3f07d8c0@www.goiania.go.leg.br
CONTACT:VEREADOR GCM ROMÁRIO POLICARPO
CREATED;VALUE=DATE-TIME:20171208T111313Z
LAST-MODIFIED;VALUE=DATE-TIME:20171208T112945Z
LOCATION:SALA DE REUNIÃO DA PRESIDÊNCIA
URL:https://www.goiania.go.leg.br/sala-de-imprensa/eventos/audiencia-publi
 ca-para-tratar-do-projeto-de-lei-complementar-de-no-041-17-discutir-o-proj
 eto-de-expansao-urbana
END:VEVENT
BEGIN:VTIMEZONE
TZID:Brazil/East
X-LIC-LOCATION:Brazil/East
BEGIN:DAYLIGHT
DTSTART;VALUE=DATE-TIME:20171015T010000
TZNAME:BRST
TZOFFSETFROM:-0300
TZOFFSETTO:-0200
END:DAYLIGHT
END:VTIMEZONE
END:VCALENDAR
