BEGIN:VCALENDAR
VERSION:2.0
PRODID:-//Plone.org//NONSGML plone.app.event//EN
X-WR-TIMEZONE:Brazil/East
BEGIN:VEVENT
SUMMARY:AUDIÊNCIA PÚBLICA PARA TRATAR DA ATUAL SITUAÇÃO DO ABRIGO PÚB
 LICO MUNICIPAL PROFESSOR NISO PREGO.
DTSTART;TZID=Brazil/East;VALUE=DATE-TIME:20240415T140000
DTEND;TZID=Brazil/East;VALUE=DATE-TIME:20240415T160000
DTSTAMP;VALUE=DATE-TIME:20260420T033206Z
UID:a3047b85005248be816d5449cd5e5c71@www.goiania.go.leg.br
CONTACT:VEREADOR HENRIQUE ALVES
CREATED;VALUE=DATE-TIME:20240415T142113Z
LAST-MODIFIED;VALUE=DATE-TIME:20240415T142756Z
LOCATION:PLENÁRIO TRAJANO GUIMARÃES
URL:https://www.goiania.go.leg.br/sala-de-imprensa/eventos/audiencia-publi
 ca-para-tratar-da-atual-situacao-do-abrigo-publico-municipal-rpofessor-nis
 o-prego
END:VEVENT
BEGIN:VTIMEZONE
TZID:Brazil/East
X-LIC-LOCATION:Brazil/East
BEGIN:STANDARD
DTSTART;VALUE=DATE-TIME:20240217T230000
TZNAME:BRT
TZOFFSETFROM:-0200
TZOFFSETTO:-0300
END:STANDARD
END:VTIMEZONE
END:VCALENDAR
