BEGIN:VCALENDAR
VERSION:2.0
PRODID:-//Plone.org//NONSGML plone.app.event//EN
X-WR-TIMEZONE:Brazil/East
BEGIN:VEVENT
SUMMARY:AUDIÊNCIA PÚBLICA PARA FOMENTAR O DEBATE EM DEFESA DA FAMÍLIA E
  DA PRESERVAÇÃO DOS DIREITOS DA CRIANÇA E DO ADOLESCENTE.
DTSTART;TZID=Brazil/East;VALUE=DATE-TIME:20210929T130000
DTEND;TZID=Brazil/East;VALUE=DATE-TIME:20210929T160000
DTSTAMP;VALUE=DATE-TIME:20260419T133332Z
UID:0b793d5206ee493f8671e33ebce94abd@www.goiania.go.leg.br
CONTACT:VEREADOR THIALU GUIOTTI
CREATED;VALUE=DATE-TIME:20210823T134251Z
LAST-MODIFIED;VALUE=DATE-TIME:20210928T131416Z
LOCATION:PLENÁRIO TRAJANO GUIMARÃES
URL:https://www.goiania.go.leg.br/sala-de-imprensa/eventos/audiencia-publi
 ca-para-fomentar-o-debate-em-defesa-da-familia-e-da-preservacao-dos-direit
 os-da-crianca-e-do-adolescente
END:VEVENT
BEGIN:VTIMEZONE
TZID:Brazil/East
X-LIC-LOCATION:Brazil/East
BEGIN:STANDARD
DTSTART;VALUE=DATE-TIME:20210220T230000
TZNAME:BRT
TZOFFSETFROM:-0200
TZOFFSETTO:-0300
END:STANDARD
END:VTIMEZONE
END:VCALENDAR
