BEGIN:VCALENDAR
VERSION:2.0
PRODID:-//Plone.org//NONSGML plone.app.event//EN
X-WR-TIMEZONE:Brazil/East
BEGIN:VEVENT
SUMMARY:AUDIÊNCIA PÚBLICA PARA FOMENTAR O DEBATE ACERCA DA IMPORTÂNCIA 
 DA DOAÇÃO DE ÓRGÃOS.
DTSTART;TZID=Brazil/East;VALUE=DATE-TIME:20210924T090000
DTEND;TZID=Brazil/East;VALUE=DATE-TIME:20210924T120000
DTSTAMP;VALUE=DATE-TIME:20260419T104849Z
UID:3dda14afeac64977b71e237313e4ee1e@www.goiania.go.leg.br
CONTACT:VEREADOR RAPHAEL DA SAÚDE
CREATED;VALUE=DATE-TIME:20210913T201420Z
LAST-MODIFIED;VALUE=DATE-TIME:20210916T123639Z
LOCATION:AUDITÓRIO CARLOS EURICO
URL:https://www.goiania.go.leg.br/sala-de-imprensa/eventos/audiencia-publi
 ca-para-fomentar-o-debate-acerca-da-importancia-da-doacao-de-orgaos
END:VEVENT
BEGIN:VTIMEZONE
TZID:Brazil/East
X-LIC-LOCATION:Brazil/East
BEGIN:STANDARD
DTSTART;VALUE=DATE-TIME:20210220T230000
TZNAME:BRT
TZOFFSETFROM:-0200
TZOFFSETTO:-0300
END:STANDARD
END:VTIMEZONE
END:VCALENDAR
