BEGIN:VCALENDAR
VERSION:2.0
PRODID:-//Plone.org//NONSGML plone.app.event//EN
X-WR-TIMEZONE:Brazil/East
BEGIN:VEVENT
SUMMARY:AUDIÊNCIA PÚBLICA PARA ESCLARECIMENTOS SOBRE A OPERAÇÃO ALICER
 CE.
DTSTART;TZID=Brazil/East;VALUE=DATE-TIME:20180927T150000
DTEND;TZID=Brazil/East;VALUE=DATE-TIME:20180927T180000
DTSTAMP;VALUE=DATE-TIME:20260420T004157Z
UID:74482b364a6d461fa0ec4a1f511b41fc@www.goiania.go.leg.br
CONTACT:VEREADORA SABRINA GARCÊZ
CREATED;VALUE=DATE-TIME:20180925T125321Z
LAST-MODIFIED;VALUE=DATE-TIME:20180925T125327Z
LOCATION:AUDITÓRIO JAIME CÂMARA
URL:https://www.goiania.go.leg.br/sala-de-imprensa/eventos/audiencia-publi
 ca-para-esclarecimentos-sobre-a-operacao-alicerce
END:VEVENT
BEGIN:VTIMEZONE
TZID:Brazil/East
X-LIC-LOCATION:Brazil/East
BEGIN:STANDARD
DTSTART;VALUE=DATE-TIME:20180217T230000
TZNAME:BRT
TZOFFSETFROM:-0200
TZOFFSETTO:-0300
END:STANDARD
END:VTIMEZONE
END:VCALENDAR
