BEGIN:VCALENDAR
VERSION:2.0
PRODID:-//Plone.org//NONSGML plone.app.event//EN
X-WR-TIMEZONE:Brazil/East
BEGIN:VEVENT
SUMMARY:AUDIÊNCIA PÚBLICA PARA ESCLARECER TODOS OS ASSUNTOS RELACIONADOS
  À REGULAMENTAÇÃO DO SERVIÇO DE TRANSPORTE DE PASSAGEIROS.            
    
DTSTART;TZID=Brazil/East;VALUE=DATE-TIME:20180628T143000
DTEND;TZID=Brazil/East;VALUE=DATE-TIME:20180628T180000
DTSTAMP;VALUE=DATE-TIME:20260420T010846Z
UID:bcc9d85a774e416d8e6dcec65992da80@www.goiania.go.leg.br
CONTACT:VEREADOR CARLIN CAFÉ
CREATED;VALUE=DATE-TIME:20180619T162842Z
LAST-MODIFIED;VALUE=DATE-TIME:20180619T162851Z
LOCATION:AUDITÓRIO CARLOS EURICO
URL:https://www.goiania.go.leg.br/sala-de-imprensa/eventos/audiencia-publi
 ca-para-esclarecer-todos-os-assuntos-relacionados-a-regulamentacao-do-serv
 ico-de-transporte-de-passageiros-1
END:VEVENT
BEGIN:VTIMEZONE
TZID:Brazil/East
X-LIC-LOCATION:Brazil/East
BEGIN:STANDARD
DTSTART;VALUE=DATE-TIME:20180217T230000
TZNAME:BRT
TZOFFSETFROM:-0200
TZOFFSETTO:-0300
END:STANDARD
END:VTIMEZONE
END:VCALENDAR
