BEGIN:VCALENDAR
VERSION:2.0
PRODID:-//Plone.org//NONSGML plone.app.event//EN
X-WR-TIMEZONE:Brazil/East
BEGIN:VEVENT
SUMMARY:AUDIÊNCIA PÚBLICA PARA DISCUTIR SOBRE OS OSTOMIZADOS.
DTSTART;TZID=Brazil/East;VALUE=DATE-TIME:20231106T140000
DTEND;TZID=Brazil/East;VALUE=DATE-TIME:20231106T170000
DTSTAMP;VALUE=DATE-TIME:20260420T021153Z
UID:e9c95ac444cc45099b5d03a8bec7d809@www.goiania.go.leg.br
CONTACT:VEREADOR WILLIAN VELOSO
CREATED;VALUE=DATE-TIME:20231006T143903Z
LAST-MODIFIED;VALUE=DATE-TIME:20231006T143920Z
LOCATION:AUDITÓRIO CARLOS EURICO
URL:https://www.goiania.go.leg.br/sala-de-imprensa/eventos/audiencia-publi
 ca-para-discutir-sobre-os-ostomizados
END:VEVENT
BEGIN:VTIMEZONE
TZID:Brazil/East
X-LIC-LOCATION:Brazil/East
BEGIN:DAYLIGHT
DTSTART;VALUE=DATE-TIME:20231015T010000
TZNAME:BRST
TZOFFSETFROM:-0300
TZOFFSETTO:-0200
END:DAYLIGHT
END:VTIMEZONE
END:VCALENDAR
