BEGIN:VCALENDAR
VERSION:2.0
PRODID:-//Plone.org//NONSGML plone.app.event//EN
X-WR-TIMEZONE:Brazil/East
BEGIN:VEVENT
SUMMARY:AUDIÊNCIA PÚBLICA PARA DISCUTIR SOBRE O PROJETO DE LEI "TORNAR O
 BRIGATÓRIO A DISPONIBILIDADE DE CARDÁPIOS IMPRESSOS EM BRAILE NOS ESTABE
 LECIMENTOS COMERCIAIS NO MUNICÍPIO DE GOIÂNIA".
DTSTART;TZID=Brazil/East;VALUE=DATE-TIME:20230602T143000
DTEND;TZID=Brazil/East;VALUE=DATE-TIME:20230602T170000
DTSTAMP;VALUE=DATE-TIME:20260419T174508Z
UID:42ba042a1c344179a9a50c598f23541f@www.goiania.go.leg.br
CONTACT:VEREADOR PAULO MAGALHÃES
CREATED;VALUE=DATE-TIME:20230525T124640Z
LAST-MODIFIED;VALUE=DATE-TIME:20230525T124653Z
LOCATION:SALA DE REUNIÃO DAS COMISSÕES
URL:https://www.goiania.go.leg.br/sala-de-imprensa/eventos/audiencia-publi
 ca-para-discutir-sobre-o-projeto-de-lei-tornar-obrigatorio-a-disponibilida
 de-de-cardapios-impressos-em-braile-nos-estabelecimentos-comerciais-no-mun
 icipio-de-goiania
END:VEVENT
BEGIN:VTIMEZONE
TZID:Brazil/East
X-LIC-LOCATION:Brazil/East
BEGIN:STANDARD
DTSTART;VALUE=DATE-TIME:20230225T230000
TZNAME:BRT
TZOFFSETFROM:-0200
TZOFFSETTO:-0300
END:STANDARD
END:VTIMEZONE
END:VCALENDAR
