BEGIN:VCALENDAR
VERSION:2.0
PRODID:-//Plone.org//NONSGML plone.app.event//EN
X-WR-TIMEZONE:Brazil/East
BEGIN:VEVENT
SUMMARY:AUDIÊNCIA PÚBLICA PARA "DISCUTIR SOBRE O PL 35/21\, QUE RECONHEC
 E OS SERVIÇOS EDUCACIONAIS POR MEIO DE OFERTAS DE AULAS PRESENCIAIS EM ES
 COLAS PÚBLICAS E PRIVADAS\, COMO ATIVIDADES ESSENCIAIS PARA A POPULAÇÃO
  DE GOIÂNIA".
DTSTART;TZID=Brazil/East;VALUE=DATE-TIME:20210414T150000
DTEND;TZID=Brazil/East;VALUE=DATE-TIME:20210414T170000
DTSTAMP;VALUE=DATE-TIME:20260419T150153Z
UID:c82aa64f04f542b5a83dbc57dbaa7774@www.goiania.go.leg.br
CONTACT:VEREADOR MAURO RUBEM
CREATED;VALUE=DATE-TIME:20210409T144333Z
LAST-MODIFIED;VALUE=DATE-TIME:20210409T144404Z
LOCATION:SALA DE REUNIÃO DAS COMISSÕES
URL:https://www.goiania.go.leg.br/sala-de-imprensa/eventos/audiencia-publi
 ca-para-discutir-sobre-o-pl-35-21-que-reconhece-os-servicos-educacionais-p
 or-meio-de-ofertas-de-aulas-presenciais-em-escolas-publicas-e-privadas-com
 o-atividades-essenciais-para-a-populacao-de-goiania
END:VEVENT
BEGIN:VTIMEZONE
TZID:Brazil/East
X-LIC-LOCATION:Brazil/East
BEGIN:STANDARD
DTSTART;VALUE=DATE-TIME:20210220T230000
TZNAME:BRT
TZOFFSETFROM:-0200
TZOFFSETTO:-0300
END:STANDARD
END:VTIMEZONE
END:VCALENDAR
