BEGIN:VCALENDAR
VERSION:2.0
PRODID:-//Plone.org//NONSGML plone.app.event//EN
X-WR-TIMEZONE:Brazil/East
BEGIN:VEVENT
SUMMARY:AUDIÊNCIA PÚBLICA PARA DISCUTIR SOBRE O PATRIMÔNIO HISTÓRICO E
  O ART DÉCO DE GOIÂNIA - DIAGNÓSTICO E PERSPECTIVAS.
DTSTART;TZID=Brazil/East;VALUE=DATE-TIME:20190830T150000
DTEND;TZID=Brazil/East;VALUE=DATE-TIME:20190830T170000
DTSTAMP;VALUE=DATE-TIME:20260420T021454Z
UID:d5331e63713e4c23b57590ba3f782dce@www.goiania.go.leg.br
CONTACT:VEREADORA  PRISCILLA TEJOTA
CREATED;VALUE=DATE-TIME:20190815T100927Z
LAST-MODIFIED;VALUE=DATE-TIME:20190815T101019Z
LOCATION:AUDITÓRIO JAIME CÂMARA
URL:https://www.goiania.go.leg.br/sala-de-imprensa/eventos/audiencia-publi
 ca-para-discutir-sobre-o-patrimonio-historico-e-o-art-deco-de-goiania-diag
 nostico-e-perspectivas
END:VEVENT
BEGIN:VTIMEZONE
TZID:Brazil/East
X-LIC-LOCATION:Brazil/East
BEGIN:STANDARD
DTSTART;VALUE=DATE-TIME:20190216T230000
TZNAME:BRT
TZOFFSETFROM:-0200
TZOFFSETTO:-0300
END:STANDARD
END:VTIMEZONE
END:VCALENDAR
