BEGIN:VCALENDAR
VERSION:2.0
PRODID:-//Plone.org//NONSGML plone.app.event//EN
X-WR-TIMEZONE:Brazil/East
BEGIN:VEVENT
SUMMARY:AUDIÊNCIA PÚBLICA PARA DISCUTIR SOBRE E DIFICULDADES ENFRENTADAS
  PELAS ASSOCIAÇÕES DOS IDOSOS DIANTE DA ATUAL GESTÃO PÚBLICA.
DTSTART;TZID=Brazil/East;VALUE=DATE-TIME:20230512T090000
DTEND;TZID=Brazil/East;VALUE=DATE-TIME:20230512T120000
DTSTAMP;VALUE=DATE-TIME:20260419T231519Z
UID:1b93e2ef0fda47efac2e9840bfc9deac@www.goiania.go.leg.br
CONTACT:VEREADOR PAULO MAGALHÃES
CREATED;VALUE=DATE-TIME:20230509T142049Z
LAST-MODIFIED;VALUE=DATE-TIME:20230509T142057Z
LOCATION:SALA DE REUNIÃO DAS COMISSÕES
URL:https://www.goiania.go.leg.br/sala-de-imprensa/eventos/audiencia-publi
 ca-para-discutir-sobre-e-dificuldades-enfrentadas-pelas-associacoes-dos-id
 osos-diante-da-atual-gestao-publica
END:VEVENT
BEGIN:VTIMEZONE
TZID:Brazil/East
X-LIC-LOCATION:Brazil/East
BEGIN:STANDARD
DTSTART;VALUE=DATE-TIME:20230225T230000
TZNAME:BRT
TZOFFSETFROM:-0200
TZOFFSETTO:-0300
END:STANDARD
END:VTIMEZONE
END:VCALENDAR
