BEGIN:VCALENDAR
VERSION:2.0
PRODID:-//Plone.org//NONSGML plone.app.event//EN
X-WR-TIMEZONE:Brazil/East
BEGIN:VEVENT
SUMMARY:AUDIÊNCIA PÚBLICA PARA DISCUTIR SOBRE A REGULARIZAÇÃO FUNDIÁR
 IA DO CONDOMÍNIO RIO BRANCO.
DTSTART;TZID=Brazil/East;VALUE=DATE-TIME:20230705T140000
DTEND;TZID=Brazil/East;VALUE=DATE-TIME:20230705T170000
DTSTAMP;VALUE=DATE-TIME:20260419T215329Z
UID:c1554d553d694b9d8dc57e0b73cfd87d@www.goiania.go.leg.br
CONTACT:VEREADOR PAULO MAGALHÃES
CREATED;VALUE=DATE-TIME:20230627T135008Z
LAST-MODIFIED;VALUE=DATE-TIME:20230627T135016Z
LOCATION:SALA DE REUNIÃO DAS COMISSÕES
URL:https://www.goiania.go.leg.br/sala-de-imprensa/eventos/audiencia-publi
 ca-para-discutir-sobre-a-regularizacao-fundiaria-do-condominio-rio-branco
END:VEVENT
BEGIN:VTIMEZONE
TZID:Brazil/East
X-LIC-LOCATION:Brazil/East
BEGIN:STANDARD
DTSTART;VALUE=DATE-TIME:20230225T230000
TZNAME:BRT
TZOFFSETFROM:-0200
TZOFFSETTO:-0300
END:STANDARD
END:VTIMEZONE
END:VCALENDAR
