BEGIN:VCALENDAR
VERSION:2.0
PRODID:-//Plone.org//NONSGML plone.app.event//EN
X-WR-TIMEZONE:Brazil/East
BEGIN:VEVENT
SUMMARY:AUDIÊNCIA PÚBLICA PARA DISCUTIR SOBRE A "MANUTENÇÃO DO PARQUE 
 VACA BRAVA".
DTSTART;TZID=Brazil/East;VALUE=DATE-TIME:20230621T143000
DTEND;TZID=Brazil/East;VALUE=DATE-TIME:20230621T170000
DTSTAMP;VALUE=DATE-TIME:20260419T190323Z
UID:e93ff30897934936a6340d1f8cc07080@www.goiania.go.leg.br
CONTACT:VEREADOR WILLIAN VELOSO
CREATED;VALUE=DATE-TIME:20230525T142040Z
LAST-MODIFIED;VALUE=DATE-TIME:20230525T142450Z
LOCATION:AUDITÓRIO CARLOS EURICO
URL:https://www.goiania.go.leg.br/sala-de-imprensa/eventos/audiencia-publi
 ca-para-discutir-sobre-a-manutencao-do-parque-vaca-brava
END:VEVENT
BEGIN:VTIMEZONE
TZID:Brazil/East
X-LIC-LOCATION:Brazil/East
BEGIN:STANDARD
DTSTART;VALUE=DATE-TIME:20230225T230000
TZNAME:BRT
TZOFFSETFROM:-0200
TZOFFSETTO:-0300
END:STANDARD
END:VTIMEZONE
END:VCALENDAR
