BEGIN:VCALENDAR
VERSION:2.0
PRODID:-//Plone.org//NONSGML plone.app.event//EN
X-WR-TIMEZONE:Brazil/East
BEGIN:VEVENT
SUMMARY:AUDIÊNCIA PÚBLICA PARA DISCUTIR SOBRE A DESCENTRALIZAÇÃO DA ME
 RENDA ESCOLAR NA REDE MUNICIPAL DE EDUCAÇÃO.
DTSTART;TZID=Brazil/East;VALUE=DATE-TIME:20170530T143000
DTEND;TZID=Brazil/East;VALUE=DATE-TIME:20170530T180000
DTSTAMP;VALUE=DATE-TIME:20260419T162614Z
UID:17aac65cad90407b9f1a9f5e12ff9c77@www.goiania.go.leg.br
CONTACT:VEREADORA PRISCILLA TEJOTA
CREATED;VALUE=DATE-TIME:20171208T111313Z
LAST-MODIFIED;VALUE=DATE-TIME:20171208T112935Z
LOCATION:AUDITÓRIO CARLOS EURICO
URL:https://www.goiania.go.leg.br/sala-de-imprensa/eventos/audiencia-publi
 ca-para-discutir-sobre-a-descentralizacao-da-merenda-escolar-na-rede-munic
 ipal-de-educacao
END:VEVENT
BEGIN:VTIMEZONE
TZID:Brazil/East
X-LIC-LOCATION:Brazil/East
BEGIN:STANDARD
DTSTART;VALUE=DATE-TIME:20170218T230000
TZNAME:BRT
TZOFFSETFROM:-0200
TZOFFSETTO:-0300
END:STANDARD
END:VTIMEZONE
END:VCALENDAR
