BEGIN:VCALENDAR
VERSION:2.0
PRODID:-//Plone.org//NONSGML plone.app.event//EN
X-WR-TIMEZONE:Brazil/East
BEGIN:VEVENT
SUMMARY:AUDIÊNCIA PÚBLICA PARA DISCUTIR SOBRE A ATUAL SITUAÇÃO DO IMAS
 .
DTSTART;TZID=Brazil/East;VALUE=DATE-TIME:20180305T140000
DTEND;TZID=Brazil/East;VALUE=DATE-TIME:20180305T180000
DTSTAMP;VALUE=DATE-TIME:20260419T231421Z
UID:84bbc07cb1fe44189981105b18b9850f@www.goiania.go.leg.br
CONTACT:VEREADOR ELIAS VAZ
CREATED;VALUE=DATE-TIME:20180305T132050Z
LAST-MODIFIED;VALUE=DATE-TIME:20180305T132059Z
LOCATION:SALA DE REUNIÃO DAS COMISSÕES
URL:https://www.goiania.go.leg.br/sala-de-imprensa/eventos/audiencia-publi
 ca-para-discutir-sobre-a-atual-situacao-do-imas
END:VEVENT
BEGIN:VTIMEZONE
TZID:Brazil/East
X-LIC-LOCATION:Brazil/East
BEGIN:STANDARD
DTSTART;VALUE=DATE-TIME:20180217T230000
TZNAME:BRT
TZOFFSETFROM:-0200
TZOFFSETTO:-0300
END:STANDARD
END:VTIMEZONE
END:VCALENDAR
