BEGIN:VCALENDAR
VERSION:2.0
PRODID:-//Plone.org//NONSGML plone.app.event//EN
X-WR-TIMEZONE:Brazil/East
BEGIN:VEVENT
SUMMARY:AUDIÊNCIA PÚBLICA PARA DISCUTIR O PROJETO DE LEI ORÇAMENTARIA P
 ARA O EXERCÍCIO FINANCEIRO DE 2019  
DTSTART;TZID=Brazil/East;VALUE=DATE-TIME:20181119T090000
DTEND;TZID=Brazil/East;VALUE=DATE-TIME:20181119T100000
DTSTAMP;VALUE=DATE-TIME:20260419T233205Z
UID:47341584317b4bf4962f0f6d187d786a@www.goiania.go.leg.br
CONTACT:VEREADOR CLÉCIO ALVES
CREATED;VALUE=DATE-TIME:20181106T125240Z
LAST-MODIFIED;VALUE=DATE-TIME:20181106T125428Z
LOCATION:SALA DE REUNIÃO DA PRESIDÊNCIA 
URL:https://www.goiania.go.leg.br/sala-de-imprensa/eventos/audiencia-publi
 ca-para-discutir-o-projeto-de-lei-orcamentaria-para-o-exercicio-financeiro
 -de-2019
END:VEVENT
BEGIN:VTIMEZONE
TZID:Brazil/East
X-LIC-LOCATION:Brazil/East
BEGIN:DAYLIGHT
DTSTART;VALUE=DATE-TIME:20181021T010000
TZNAME:BRST
TZOFFSETFROM:-0300
TZOFFSETTO:-0200
END:DAYLIGHT
END:VTIMEZONE
END:VCALENDAR
