BEGIN:VCALENDAR
VERSION:2.0
PRODID:-//Plone.org//NONSGML plone.app.event//EN
X-WR-TIMEZONE:Brazil/East
BEGIN:VEVENT
SUMMARY:AUDIÊNCIA PÚBLICA PARA DISCUTIR O PROJETO DE EXPANSÃO URBANA - 
 QUE TRATA O PROJETO DE LEI COMPLEMENTAR 041/17.
DTSTART;TZID=Brazil/East;VALUE=DATE-TIME:20171214T150000
DTEND;TZID=Brazil/East;VALUE=DATE-TIME:20171214T180000
DTSTAMP;VALUE=DATE-TIME:20260419T174404Z
UID:dec75f3185524214921e856caa565b39@www.goiania.go.leg.br
CONTACT:VEREADOR GCM ROMÁRIO POLICARPO
CREATED;VALUE=DATE-TIME:20171208T111313Z
LAST-MODIFIED;VALUE=DATE-TIME:20171208T112945Z
LOCATION:AUDITÓRIO CARLOS EURICO
URL:https://www.goiania.go.leg.br/sala-de-imprensa/eventos/audiencia-publi
 ca-para-discutir-o-projeto-de-expansao-urbana-que-trata-o-projeto-de-lei-c
 omplementar-041-17
END:VEVENT
BEGIN:VTIMEZONE
TZID:Brazil/East
X-LIC-LOCATION:Brazil/East
BEGIN:DAYLIGHT
DTSTART;VALUE=DATE-TIME:20171015T010000
TZNAME:BRST
TZOFFSETFROM:-0300
TZOFFSETTO:-0200
END:DAYLIGHT
END:VTIMEZONE
END:VCALENDAR
