BEGIN:VCALENDAR
VERSION:2.0
PRODID:-//Plone.org//NONSGML plone.app.event//EN
X-WR-TIMEZONE:Brazil/East
BEGIN:VEVENT
SUMMARY:AUDIÊNCIA PÚBLICA PARA DISCUTIR O PROJETO DE EMENDA CONSTITUCION
 AL - PEC DE Nº 287/2016.
DTSTART;TZID=Brazil/East;VALUE=DATE-TIME:20170420T143000
DTEND;TZID=Brazil/East;VALUE=DATE-TIME:20170420T180000
DTSTAMP;VALUE=DATE-TIME:20260419T174322Z
UID:4e695f2f02f64dc4814884419fd57ae9@www.goiania.go.leg.br
CONTACT:VEREADOR GCM ROMÁRIO POLICARPO
CREATED;VALUE=DATE-TIME:20171208T111312Z
LAST-MODIFIED;VALUE=DATE-TIME:20171208T112930Z
LOCATION:AUDITÓRIO JAIME CÂMARA
URL:https://www.goiania.go.leg.br/sala-de-imprensa/eventos/audiencia-publi
 ca-para-discutir-o-projeto-de-emenda-constitucional-pec-de-no-287-2016
END:VEVENT
BEGIN:VTIMEZONE
TZID:Brazil/East
X-LIC-LOCATION:Brazil/East
BEGIN:STANDARD
DTSTART;VALUE=DATE-TIME:20170218T230000
TZNAME:BRT
TZOFFSETFROM:-0200
TZOFFSETTO:-0300
END:STANDARD
END:VTIMEZONE
END:VCALENDAR
