BEGIN:VCALENDAR
VERSION:2.0
PRODID:-//Plone.org//NONSGML plone.app.event//EN
X-WR-TIMEZONE:Brazil/East
BEGIN:VEVENT
SUMMARY:AUDIÊNCIA  PÚBLICA PARA DISCUTIR O CÓDIGO DE POSTURA DE GOIÂNI
 A.
DTSTART;TZID=Brazil/East;VALUE=DATE-TIME:20230417T133000
DTEND;TZID=Brazil/East;VALUE=DATE-TIME:20230417T170000
DTSTAMP;VALUE=DATE-TIME:20260420T131618Z
UID:15b95baf4f134f81a4ad2a207c5067bf@www.goiania.go.leg.br
CONTACT:VEREADOR GEVERSON ABEL
CREATED;VALUE=DATE-TIME:20230410T223955Z
LAST-MODIFIED;VALUE=DATE-TIME:20230412T211429Z
LOCATION:PLENÁRIO TRAJANO GUIMARÃES
URL:https://www.goiania.go.leg.br/sala-de-imprensa/eventos/audiencia-publi
 ca-para-discutir-o-codigo-de-postura-de-goiania
END:VEVENT
BEGIN:VTIMEZONE
TZID:Brazil/East
X-LIC-LOCATION:Brazil/East
BEGIN:STANDARD
DTSTART;VALUE=DATE-TIME:20230225T230000
TZNAME:BRT
TZOFFSETFROM:-0200
TZOFFSETTO:-0300
END:STANDARD
END:VTIMEZONE
END:VCALENDAR
