BEGIN:VCALENDAR
VERSION:2.0
PRODID:-//Plone.org//NONSGML plone.app.event//EN
X-WR-TIMEZONE:Brazil/East
BEGIN:VEVENT
SUMMARY:AUDIÊNCIA PÚBLICA PARA DISCUTIR O ATENDIMENTO DE CRIANÇAS E ADO
 LESCENTES.
DTSTART;TZID=Brazil/East;VALUE=DATE-TIME:20180320T090000
DTEND;TZID=Brazil/East;VALUE=DATE-TIME:20180320T120000
DTSTAMP;VALUE=DATE-TIME:20260419T215220Z
UID:d0eb000bc8af4c50a325f9d718c07c53@www.goiania.go.leg.br
CONTACT:VEREADOR VINICIUS CIRQUEIRA
CREATED;VALUE=DATE-TIME:20180306T131620Z
LAST-MODIFIED;VALUE=DATE-TIME:20180306T131625Z
LOCATION:SALA DE REUNIÃO DAS COMISSÕES
URL:https://www.goiania.go.leg.br/sala-de-imprensa/eventos/audiencia-publi
 ca-para-discutir-o-atendimento-de-criancas-e-adolescentes
END:VEVENT
BEGIN:VTIMEZONE
TZID:Brazil/East
X-LIC-LOCATION:Brazil/East
BEGIN:STANDARD
DTSTART;VALUE=DATE-TIME:20180217T230000
TZNAME:BRT
TZOFFSETFROM:-0200
TZOFFSETTO:-0300
END:STANDARD
END:VTIMEZONE
END:VCALENDAR
