BEGIN:VCALENDAR
VERSION:2.0
PRODID:-//Plone.org//NONSGML plone.app.event//EN
X-WR-TIMEZONE:Brazil/East
BEGIN:VEVENT
SUMMARY:AUDIÊNCIA PÚBLICA PARA DISCUTIR MINUTA DE PRINCÍPIOS DA EDUCAÇ
 ÃO INFANTIL DE GOIÂNIA
DTSTART;TZID=Brazil/East;VALUE=DATE-TIME:20160823T130000
DTEND;TZID=Brazil/East;VALUE=DATE-TIME:20160823T180000
DTSTAMP;VALUE=DATE-TIME:20260419T202727Z
UID:0a9a355e40404d5f986077bf694442f0@www.goiania.go.leg.br
CONTACT:VER. PAULO DA FARMÁCIA
CREATED;VALUE=DATE-TIME:20171208T111312Z
LAST-MODIFIED;VALUE=DATE-TIME:20171208T112920Z
LOCATION:AUDITÓRIO JAIME CÂMARA
URL:https://www.goiania.go.leg.br/sala-de-imprensa/eventos/audiencia-publi
 ca-para-discutir-minuta-de-principios-da-educacao-infantil-de-goiania
END:VEVENT
BEGIN:VTIMEZONE
TZID:Brazil/East
X-LIC-LOCATION:Brazil/East
BEGIN:STANDARD
DTSTART;VALUE=DATE-TIME:20160220T230000
TZNAME:BRT
TZOFFSETFROM:-0200
TZOFFSETTO:-0300
END:STANDARD
END:VTIMEZONE
END:VCALENDAR
