BEGIN:VCALENDAR
VERSION:2.0
PRODID:-//Plone.org//NONSGML plone.app.event//EN
X-WR-TIMEZONE:Brazil/East
BEGIN:VEVENT
SUMMARY:AUDIÊNCIA PÚBLICA PARA DISCUTIR EMENDA A SER APRESENTADA AO PROJ
 ETO DO NOVO PLANO DIRETOR.
DTSTART;TZID=Brazil/East;VALUE=DATE-TIME:20191007T090000
DTEND;TZID=Brazil/East;VALUE=DATE-TIME:20191007T120000
DTSTAMP;VALUE=DATE-TIME:20260419T231545Z
UID:2ec85e460b9e491c84fbeb16281bb63f@www.goiania.go.leg.br
CONTACT:VEREADOR PAULO MAGALHÃES
CREATED;VALUE=DATE-TIME:20190926T173721Z
LAST-MODIFIED;VALUE=DATE-TIME:20190926T173941Z
LOCATION:SALA DE REUNIÃO DAS COMISSÕES
URL:https://www.goiania.go.leg.br/sala-de-imprensa/eventos/audiencia-publi
 ca-para-discutir-emenda-a-ser-apresentada-ao-projeto-do-novo-plano-diretor
END:VEVENT
BEGIN:VTIMEZONE
TZID:Brazil/East
X-LIC-LOCATION:Brazil/East
BEGIN:STANDARD
DTSTART;VALUE=DATE-TIME:20190216T230000
TZNAME:BRT
TZOFFSETFROM:-0200
TZOFFSETTO:-0300
END:STANDARD
END:VTIMEZONE
END:VCALENDAR
