BEGIN:VCALENDAR
VERSION:2.0
PRODID:-//Plone.org//NONSGML plone.app.event//EN
X-WR-TIMEZONE:Brazil/East
BEGIN:VEVENT
SUMMARY:AUDIÊNCIA PÚBLICA PARA DISCUTIR E FORMENTAR SOBRE A "CRISE NA PE
 DIATRIA" E O CENÁRIO DA ATUAL CARDIOLOGIA PEDIÁTRICA.
DTSTART;TZID=Brazil/East;VALUE=DATE-TIME:20230612T130000
DTEND;TZID=Brazil/East;VALUE=DATE-TIME:20230612T160000
DTSTAMP;VALUE=DATE-TIME:20260419T215327Z
UID:d71e6891c59f4fcb998fe4c6eb63ea23@www.goiania.go.leg.br
CONTACT:VEREADOR RAPAHEL DA SAÚDE
CREATED;VALUE=DATE-TIME:20230612T121213Z
LAST-MODIFIED;VALUE=DATE-TIME:20230612T121227Z
LOCATION:P
URL:https://www.goiania.go.leg.br/sala-de-imprensa/eventos/audiencia-publi
 ca-para-discutir-e-formentar-sobre-a-crise-na-pediatria-e-o-cenario-da-atu
 al-cardiologia-pediatrica
END:VEVENT
BEGIN:VTIMEZONE
TZID:Brazil/East
X-LIC-LOCATION:Brazil/East
BEGIN:STANDARD
DTSTART;VALUE=DATE-TIME:20230225T230000
TZNAME:BRT
TZOFFSETFROM:-0200
TZOFFSETTO:-0300
END:STANDARD
END:VTIMEZONE
END:VCALENDAR
