BEGIN:VCALENDAR
VERSION:2.0
PRODID:-//Plone.org//NONSGML plone.app.event//EN
X-WR-TIMEZONE:Brazil/East
BEGIN:VEVENT
SUMMARY:AUDIÊNCIA PÚBLICA PARA DISCUTIR AS DIFICULDADES DOS AMBULANTES N
 A ATUAÇÃO DE SUA PROFISSÃO NO MUNICÍPIO DE GOIÂNIA.
DTSTART;TZID=Brazil/East;VALUE=DATE-TIME:20230629T140000
DTEND;TZID=Brazil/East;VALUE=DATE-TIME:20230629T170000
DTSTAMP;VALUE=DATE-TIME:20260419T220237Z
UID:2d2cd4cf3ea64f2584baf62f173d24f2@www.goiania.go.leg.br
CONTACT:VEREADOR PAULO MAGALHÃES
CREATED;VALUE=DATE-TIME:20230614T132734Z
LAST-MODIFIED;VALUE=DATE-TIME:20230629T154519Z
LOCATION:SALA DE REUNIÃO DAS COMISSÕES
URL:https://www.goiania.go.leg.br/sala-de-imprensa/eventos/audiencia-publi
 ca-para-discutir-as-dificuldades-dos-ambulantes-na-atuacao-de-sua-profissa
 o-no-municipio-de-goiania
END:VEVENT
BEGIN:VTIMEZONE
TZID:Brazil/East
X-LIC-LOCATION:Brazil/East
BEGIN:STANDARD
DTSTART;VALUE=DATE-TIME:20230225T230000
TZNAME:BRT
TZOFFSETFROM:-0200
TZOFFSETTO:-0300
END:STANDARD
END:VTIMEZONE
END:VCALENDAR
