BEGIN:VCALENDAR
VERSION:2.0
PRODID:-//Plone.org//NONSGML plone.app.event//EN
X-WR-TIMEZONE:Brazil/East
BEGIN:VEVENT
SUMMARY:AUDIÊNCIA PÚBLICA PARA DISCUTIR A PROPOSTA DE NOVA LEI DA REGIÃ
 O METROPOLITANA DE GOIÂNIA E A CRIAÇÃO  DO CONSELHO DE DESENVOLVIMENTO 
 DA REGIÃO METROPOLITANA DE GOIÂNIA.
DTSTART;TZID=Brazil/East;VALUE=DATE-TIME:20170217T083000
DTEND;TZID=Brazil/East;VALUE=DATE-TIME:20170217T120000
DTSTAMP;VALUE=DATE-TIME:20260419T203035Z
UID:adcfce1ba63841279621a076ab645a39@www.goiania.go.leg.br
CONTACT:VEREADOR ELIAS VAZ
CREATED;VALUE=DATE-TIME:20171208T111312Z
LAST-MODIFIED;VALUE=DATE-TIME:20171208T112927Z
LOCATION:SALA DE REUNIÕES DAS COMISSÕES
URL:https://www.goiania.go.leg.br/sala-de-imprensa/eventos/audiencia-publi
 ca-para-discutir-a-proposta-de-nova-lei-da-regiao-metropolitana-de-goiania
 -e-a-criacao-do-conselho-de-desenvolviemnto-da-regiao-metropolitana-de-goi
 ania
END:VEVENT
BEGIN:VTIMEZONE
TZID:Brazil/East
X-LIC-LOCATION:Brazil/East
BEGIN:DAYLIGHT
DTSTART;VALUE=DATE-TIME:20161016T010000
TZNAME:BRST
TZOFFSETFROM:-0300
TZOFFSETTO:-0200
END:DAYLIGHT
END:VTIMEZONE
END:VCALENDAR
