BEGIN:VCALENDAR
VERSION:2.0
PRODID:-//Plone.org//NONSGML plone.app.event//EN
X-WR-TIMEZONE:Brazil/East
BEGIN:VEVENT
SUMMARY:AUDIÊNCIA PÚBLICA PARA DISCUTIR A PL 20/22 - ACERCA DO CÓDIGO T
 RIBUTÁRIO.
DTSTART;TZID=Brazil/East;VALUE=DATE-TIME:20221212T120000
DTEND;TZID=Brazil/East;VALUE=DATE-TIME:20221212T180000
DTSTAMP;VALUE=DATE-TIME:20260419T232758Z
UID:c1d237fc93524f588b7913eb3345a10b@www.goiania.go.leg.br
CONTACT:VEREADOR THIALU GUIOTTI
CREATED;VALUE=DATE-TIME:20221212T132437Z
LAST-MODIFIED;VALUE=DATE-TIME:20221212T132447Z
LOCATION:SALA DE REUNIÃO DAS COMISSÕES
URL:https://www.goiania.go.leg.br/sala-de-imprensa/eventos/audiencia-publi
 ca-para-discutir-a-pl-20-22-acerca-do-codigo-tributario
END:VEVENT
BEGIN:VTIMEZONE
TZID:Brazil/East
X-LIC-LOCATION:Brazil/East
BEGIN:DAYLIGHT
DTSTART;VALUE=DATE-TIME:20221016T010000
TZNAME:BRST
TZOFFSETFROM:-0300
TZOFFSETTO:-0200
END:DAYLIGHT
END:VTIMEZONE
END:VCALENDAR
