BEGIN:VCALENDAR
VERSION:2.0
PRODID:-//Plone.org//NONSGML plone.app.event//EN
X-WR-TIMEZONE:Brazil/East
BEGIN:VEVENT
SUMMARY:Audiência Pública: Para Discutir a Ocupaçãp do Parque Atheneu
DTSTART;TZID=Brazil/East;VALUE=DATE-TIME:20170217T100000
DTEND;TZID=Brazil/East;VALUE=DATE-TIME:20170217T120000
DTSTAMP;VALUE=DATE-TIME:20260420T075254Z
UID:8b63ea933d4946599c6ba25f5c96ea6b@www.goiania.go.leg.br
CONTACT:Ver. Alysson Lima
CREATED;VALUE=DATE-TIME:20171208T111312Z
LAST-MODIFIED;VALUE=DATE-TIME:20171208T112928Z
LOCATION:Auditório Carlos Eurico
URL:https://www.goiania.go.leg.br/sala-de-imprensa/eventos/audiencia-publi
 ca-para-discutir-a-ocupacap-do-parque-atheneu
END:VEVENT
BEGIN:VTIMEZONE
TZID:Brazil/East
X-LIC-LOCATION:Brazil/East
BEGIN:DAYLIGHT
DTSTART;VALUE=DATE-TIME:20161016T010000
TZNAME:BRST
TZOFFSETFROM:-0300
TZOFFSETTO:-0200
END:DAYLIGHT
END:VTIMEZONE
END:VCALENDAR
