BEGIN:VCALENDAR
VERSION:2.0
PRODID:-//Plone.org//NONSGML plone.app.event//EN
X-WR-TIMEZONE:Brazil/East
BEGIN:VEVENT
SUMMARY:AUDIÊNCIA PÚBLICA PARA DISCUTIR A NOTIFICAÇÃO DA PREFEITURA DE
  GOIÂNIA QUE COBRA REGULARIZAÇÃO DE IMÓVEIS.
DTSTART;TZID=Brazil/East;VALUE=DATE-TIME:20181210T140000
DTEND;TZID=Brazil/East;VALUE=DATE-TIME:20181210T180000
DTSTAMP;VALUE=DATE-TIME:20260419T220134Z
UID:cebc8fa1c02046ab9172976f03ab740f@www.goiania.go.leg.br
CONTACT:VEREADORA SABRINA GARCÊZ
CREATED;VALUE=DATE-TIME:20181206T091045Z
LAST-MODIFIED;VALUE=DATE-TIME:20181206T091054Z
LOCATION:SALA DE REUNIÃO DAS COMISSÕES
URL:https://www.goiania.go.leg.br/sala-de-imprensa/eventos/audiencia-publi
 ca-para-discutir-a-notificacao-da-prefeitura-de-goiania-que-cobra-regulari
 zacao-de-imoveis
END:VEVENT
BEGIN:VTIMEZONE
TZID:Brazil/East
X-LIC-LOCATION:Brazil/East
BEGIN:DAYLIGHT
DTSTART;VALUE=DATE-TIME:20181021T010000
TZNAME:BRST
TZOFFSETFROM:-0300
TZOFFSETTO:-0200
END:DAYLIGHT
END:VTIMEZONE
END:VCALENDAR
