BEGIN:VCALENDAR
VERSION:2.0
PRODID:-//Plone.org//NONSGML plone.app.event//EN
X-WR-TIMEZONE:Brazil/East
BEGIN:VEVENT
SUMMARY:AUDIÊNCIA PÚBLICA PARA DISCUTIR À MUDANÇA DA SEDE DA CÂMARA M
 UNICIPAL DE GOIÂNIA PARA A ATUAL SEDE DA ASSEMBLEIA LEGISLATIVA DO ESTADO
  DE GOIÁS.
DTSTART;TZID=Brazil/East;VALUE=DATE-TIME:20190314T140000
DTEND;TZID=Brazil/East;VALUE=DATE-TIME:20190314T180000
DTSTAMP;VALUE=DATE-TIME:20260419T162323Z
UID:06a26f621b6b4841b67e174549e899c0@www.goiania.go.leg.br
CONTACT:VEREADOR DENÍCIO TRINDADE
CREATED;VALUE=DATE-TIME:20190307T103313Z
LAST-MODIFIED;VALUE=DATE-TIME:20190307T103321Z
LOCATION:AUDITÓRIO CARLOS EURICO
URL:https://www.goiania.go.leg.br/sala-de-imprensa/eventos/audiencia-publi
 ca-para-discutir-a-mudanca-da-sede-da-camara-municipal-de-goiania-para-a-a
 tual-sede-da-assembleia-legislativa-do-estado-de-goias
END:VEVENT
BEGIN:VTIMEZONE
TZID:Brazil/East
X-LIC-LOCATION:Brazil/East
BEGIN:STANDARD
DTSTART;VALUE=DATE-TIME:20190216T230000
TZNAME:BRT
TZOFFSETFROM:-0200
TZOFFSETTO:-0300
END:STANDARD
END:VTIMEZONE
END:VCALENDAR
