BEGIN:VCALENDAR
VERSION:2.0
PRODID:-//Plone.org//NONSGML plone.app.event//EN
X-WR-TIMEZONE:Brazil/East
BEGIN:VEVENT
SUMMARY:AUDIÊNCIA PÚBLICA PARA DISCUTIR A LEI COMPLEMENTAR Nº 171/2007 
 QUE "DISPÕE SOBRE A AMPLIAÇÃO DO ANEL RODOVIÁRIO
DTSTART;TZID=Brazil/East;VALUE=DATE-TIME:20160615T150000
DTEND;TZID=Brazil/East;VALUE=DATE-TIME:20160615T180000
DTSTAMP;VALUE=DATE-TIME:20260419T234232Z
UID:71f545c0d5e640558ba801e1c36e1d4d@www.goiania.go.leg.br
CONTACT:VEREADOR DEIVISON COSTA
CREATED;VALUE=DATE-TIME:20171208T111312Z
LAST-MODIFIED;VALUE=DATE-TIME:20171208T112921Z
LOCATION:SALA DAS COMISSÕES
URL:https://www.goiania.go.leg.br/sala-de-imprensa/eventos/audiencia-publi
 ca-para-discutir-a-lei-complementar-no-171-2007-que-dispoe-sobre-a-ampliac
 ao-do-anel-rodoviario
END:VEVENT
BEGIN:VTIMEZONE
TZID:Brazil/East
X-LIC-LOCATION:Brazil/East
BEGIN:STANDARD
DTSTART;VALUE=DATE-TIME:20160220T230000
TZNAME:BRT
TZOFFSETFROM:-0200
TZOFFSETTO:-0300
END:STANDARD
END:VTIMEZONE
END:VCALENDAR
