BEGIN:VCALENDAR
VERSION:2.0
PRODID:-//Plone.org//NONSGML plone.app.event//EN
X-WR-TIMEZONE:Brazil/East
BEGIN:VEVENT
SUMMARY:AUDIÊNCIA PÚBLICA PARA DISCUTIR A INSTRUÇÃO NORMATIVA NÚMERO 
 43\, DE 08 DE JUNHO DA AMMA.
DTSTART;TZID=Brazil/East;VALUE=DATE-TIME:20161107T100000
DTEND;TZID=Brazil/East;VALUE=DATE-TIME:20161107T120000
DTSTAMP;VALUE=DATE-TIME:20260420T010452Z
UID:6a36752cc21e4b79b5086abe60cdc24f@www.goiania.go.leg.br
CREATED;VALUE=DATE-TIME:20171208T111312Z
LAST-MODIFIED;VALUE=DATE-TIME:20171208T112925Z
LOCATION:SALA DE REUNIÕES DA PRESIDENCIA
URL:https://www.goiania.go.leg.br/sala-de-imprensa/eventos/audiencia-publi
 ca-para-discutir-a-instrucao-normativa-numero-43-de-08-de-junho-da-amma
END:VEVENT
BEGIN:VTIMEZONE
TZID:Brazil/East
X-LIC-LOCATION:Brazil/East
BEGIN:DAYLIGHT
DTSTART;VALUE=DATE-TIME:20161016T010000
TZNAME:BRST
TZOFFSETFROM:-0300
TZOFFSETTO:-0200
END:DAYLIGHT
END:VTIMEZONE
END:VCALENDAR
